BEGIN:VCALENDAR
VERSION:2.0
PRODID:-//Tukios.com/
BEGIN:VEVENT
UID:44709ecf-5a20-4fd8-97ee-495333ca6aa8@www.walkerslifememorial.com
DTSTAMP:20260423T000838Z
DTSTART:20260430T153000Z
DTEND:20260430T163000Z
SUMMARY:Celebration of Life
DESCRIPTION:
URL:https://www.walkerslifememorial.com/obituaries/ray-hall
LOCATION:True Christian Faith Temple 2200 Sherwood Ave  Baltimore MD 
	21218
GEO:39.3151817;-76.5986423
END:VEVENT
END:VCALENDAR