BEGIN:VCALENDAR
VERSION:2.0
PRODID:-//Tukios.com/
BEGIN:VEVENT
UID:95ab6efb-74d8-42fa-9e41-070c7e073621@www.walkerslifememorial.com
DTSTAMP:20260423T000104Z
DTSTART:20260430T150000Z
DTEND:20260430T160000Z
SUMMARY:Wake
DESCRIPTION:
URL:https://www.walkerslifememorial.com/obituaries/ray-hall
LOCATION:True Christian Faith Temple 2200 Sherwood Ave  Baltimore MD 
	21218
GEO:39.3151817;-76.5986423
END:VEVENT
END:VCALENDAR